BEGIN:VCALENDAR
VERSION:2.0
PRODID:-//City County Planning Commission - ECPv6.15.20//NONSGML v1.0//EN
CALSCALE:GREGORIAN
METHOD:PUBLISH
X-ORIGINAL-URL:https://www.warrenpc.org
X-WR-CALDESC:Events for City County Planning Commission
REFRESH-INTERVAL;VALUE=DURATION:PT1H
X-Robots-Tag:noindex
X-PUBLISHED-TTL:PT1H
BEGIN:VTIMEZONE
TZID:America/Chicago
BEGIN:DAYLIGHT
TZOFFSETFROM:-0600
TZOFFSETTO:-0500
TZNAME:CDT
DTSTART:20230312T080000
END:DAYLIGHT
BEGIN:STANDARD
TZOFFSETFROM:-0500
TZOFFSETTO:-0600
TZNAME:CST
DTSTART:20231105T070000
END:STANDARD
BEGIN:DAYLIGHT
TZOFFSETFROM:-0600
TZOFFSETTO:-0500
TZNAME:CDT
DTSTART:20240310T080000
END:DAYLIGHT
BEGIN:STANDARD
TZOFFSETFROM:-0500
TZOFFSETTO:-0600
TZNAME:CST
DTSTART:20241103T070000
END:STANDARD
BEGIN:DAYLIGHT
TZOFFSETFROM:-0600
TZOFFSETTO:-0500
TZNAME:CDT
DTSTART:20250309T080000
END:DAYLIGHT
BEGIN:STANDARD
TZOFFSETFROM:-0500
TZOFFSETTO:-0600
TZNAME:CST
DTSTART:20251102T070000
END:STANDARD
BEGIN:DAYLIGHT
TZOFFSETFROM:-0600
TZOFFSETTO:-0500
TZNAME:CDT
DTSTART:20260308T080000
END:DAYLIGHT
BEGIN:STANDARD
TZOFFSETFROM:-0500
TZOFFSETTO:-0600
TZNAME:CST
DTSTART:20261101T070000
END:STANDARD
END:VTIMEZONE
BEGIN:VEVENT
DTSTART;TZID=America/Chicago:20250826T153000
DTEND;TZID=America/Chicago:20250826T163000
DTSTAMP:20260425T072332
CREATED:20240812T142333Z
LAST-MODIFIED:20250710T205838Z
UID:10001935-1756222200-1756225800@www.warrenpc.org
SUMMARY:MPO Policy Committee
DESCRIPTION:
URL:https://www.warrenpc.org/event/mpo-policy-committee/2025-08-26/
END:VEVENT
BEGIN:VEVENT
DTSTART;TZID=America/Chicago:20250429T153000
DTEND;TZID=America/Chicago:20250429T163000
DTSTAMP:20260425T072332
CREATED:20240812T142333Z
LAST-MODIFIED:20250710T205838Z
UID:10001934-1745940600-1745944200@www.warrenpc.org
SUMMARY:MPO Policy Committee
DESCRIPTION:
URL:https://www.warrenpc.org/event/mpo-policy-committee/2025-04-29/
END:VEVENT
BEGIN:VEVENT
DTSTART;TZID=America/Chicago:20250225T153000
DTEND;TZID=America/Chicago:20250225T163000
DTSTAMP:20260425T072332
CREATED:20240812T142333Z
LAST-MODIFIED:20250710T205838Z
UID:10001933-1740497400-1740501000@www.warrenpc.org
SUMMARY:MPO Policy Committee
DESCRIPTION:
URL:https://www.warrenpc.org/event/mpo-policy-committee/2025-02-25/
END:VEVENT
BEGIN:VEVENT
DTSTART;TZID=America/Chicago:20241029T153000
DTEND;TZID=America/Chicago:20241029T163000
DTSTAMP:20260425T072332
CREATED:20240812T142333Z
LAST-MODIFIED:20250710T205838Z
UID:10001932-1730215800-1730219400@www.warrenpc.org
SUMMARY:MPO Policy Committee
DESCRIPTION:
URL:https://www.warrenpc.org/event/mpo-policy-committee/2024-10-29/
END:VEVENT
BEGIN:VEVENT
DTSTART;TZID=America/Chicago:20240827T153000
DTEND;TZID=America/Chicago:20240827T163000
DTSTAMP:20260425T072332
CREATED:20240812T142333Z
LAST-MODIFIED:20250710T205838Z
UID:10001931-1724772600-1724776200@www.warrenpc.org
SUMMARY:MPO Policy Committee
DESCRIPTION:
URL:https://www.warrenpc.org/event/mpo-policy-committee/2024-08-27/
END:VEVENT
END:VCALENDAR