BEGIN:VCALENDAR
VERSION:2.0
PRODID:-//City County Planning Commission - ECPv6.15.20//NONSGML v1.0//EN
CALSCALE:GREGORIAN
METHOD:PUBLISH
X-WR-CALNAME:City County Planning Commission
X-ORIGINAL-URL:https://www.warrenpc.org
X-WR-CALDESC:Events for City County Planning Commission
REFRESH-INTERVAL;VALUE=DURATION:PT1H
X-Robots-Tag:noindex
X-PUBLISHED-TTL:PT1H
BEGIN:VTIMEZONE
TZID:America/Chicago
BEGIN:DAYLIGHT
TZOFFSETFROM:-0600
TZOFFSETTO:-0500
TZNAME:CDT
DTSTART:20220313T080000
END:DAYLIGHT
BEGIN:STANDARD
TZOFFSETFROM:-0500
TZOFFSETTO:-0600
TZNAME:CST
DTSTART:20221106T070000
END:STANDARD
BEGIN:DAYLIGHT
TZOFFSETFROM:-0600
TZOFFSETTO:-0500
TZNAME:CDT
DTSTART:20230312T080000
END:DAYLIGHT
BEGIN:STANDARD
TZOFFSETFROM:-0500
TZOFFSETTO:-0600
TZNAME:CST
DTSTART:20231105T070000
END:STANDARD
BEGIN:DAYLIGHT
TZOFFSETFROM:-0600
TZOFFSETTO:-0500
TZNAME:CDT
DTSTART:20240310T080000
END:DAYLIGHT
BEGIN:STANDARD
TZOFFSETFROM:-0500
TZOFFSETTO:-0600
TZNAME:CST
DTSTART:20241103T070000
END:STANDARD
END:VTIMEZONE
BEGIN:VEVENT
DTSTART;TZID=America/Chicago:20231005T173000
DTEND;TZID=America/Chicago:20231005T193000
DTSTAMP:20260421T032001
CREATED:20200403T185626Z
LAST-MODIFIED:20250710T205944Z
UID:10001574-1696527000-1696534200@www.warrenpc.org
SUMMARY:Planning Commission
DESCRIPTION:Planning Commission Meetings are held in person at 5:30 P.M. on the 1st and 3rd Thursdays of each month. Warren County Courthouse Fiscal Court Room\, 429 E 10th Avenue\, Bowling Green\, Kentucky. All meetings are open to the public. Meeting materials can be found here: https://warrenpc.org/planning-commission/. You may watch the meetings live on on our YouTube channel: https://www.youtube.com/channel/UCBJyVufxStT-_O0wPpQAxVA or Spectrum Cable channel 195.
URL:https://www.warrenpc.org/event/special-call-planning-commission-2021-07-01/2023-10-05/
CATEGORIES:Planning Commission Meeting
END:VEVENT
BEGIN:VEVENT
DTSTART;TZID=America/Chicago:20231009T160000
DTEND;TZID=America/Chicago:20231009T170000
DTSTAMP:20260421T032001
CREATED:20180706T190732Z
LAST-MODIFIED:20250811T165708Z
UID:10001387-1696867200-1696870800@www.warrenpc.org
SUMMARY:Bicycle & Pedestrian Advisory Committee Meeting
DESCRIPTION:MPO Bicycle & Pedestrian Advisory Committee (BPAC) meetings are held at 4:00 P.M. on the 2nd Monday of each even-numbered month. Virtual meeting platform: In-person at City-County Planning Commission Conference Room\, 922 State Street\, Suite 200\, Bowling Green\, Kentucky | Virtual Zoom (see below). All meetings are open to the public. \nMeeting agendas and information located here.
URL:https://www.warrenpc.org/event/greenways-commission-meeting-2-2019-12-09/2023-10-09/
LOCATION:City-County Planning Commission Conference Room\, 1141 State St\, Bowling Green\, KY\, 42101\, United States
CATEGORIES:Bicycle and Pedestrian Advisory Committee Meeting
GEO:36.9905338;-86.4445474
X-APPLE-STRUCTURED-LOCATION;VALUE=URI;X-ADDRESS=City-County Planning Commission Conference Room 1141 State St Bowling Green KY 42101 United States;X-APPLE-RADIUS=500;X-TITLE=1141 State St:geo:-86.4445474,36.9905338
END:VEVENT
BEGIN:VEVENT
DTSTART;TZID=America/Chicago:20231012T170000
DTEND;TZID=America/Chicago:20231012T180000
DTSTAMP:20260421T032001
CREATED:20200416T171325Z
LAST-MODIFIED:20250710T205953Z
UID:10001493-1697130000-1697133600@www.warrenpc.org
SUMMARY:Board of Adjustments
DESCRIPTION:Board of Adjustments meetings are held in person at 5:00 P.M. on the 2nd Thursday of each month. Warren County Courthouse Fiscal Court Room\, 429 E 10th Avenue\, Bowling Green\, Kentucky. All meetings are open to the public. Meeting materials can be found here: https://warrenpc.org/board-of-adjustments/.
URL:https://www.warrenpc.org/event/board-of-adjustments-special-call-meeting/2023-10-12/
CATEGORIES:Board Of Adjustments Meeting
END:VEVENT
BEGIN:VEVENT
DTSTART;TZID=America/Chicago:20231018T170000
DTEND;TZID=America/Chicago:20231018T190000
DTSTAMP:20260421T032001
CREATED:20180706T184423Z
LAST-MODIFIED:20231013T175140Z
UID:10000921-1697648400-1697655600@www.warrenpc.org
SUMMARY:Design Review Board
DESCRIPTION:Urban Growth Design Review Board meetings are held at 5:00 P.M. on the 3rd Wednesday of each month\, at the City Hall Commission Chambers\, 1001 College Street\, Bowling Green\, Kentucky. All meetings are open to the public. Meeting materials can be found here: https://warrenpc.org/design-review/. \n 
URL:https://www.warrenpc.org/event/design-review-board-meeting-2023-10-18/
CATEGORIES:Design Review Board Meeting
END:VEVENT
BEGIN:VEVENT
DTSTART;TZID=America/Chicago:20231019T173000
DTEND;TZID=America/Chicago:20231019T193000
DTSTAMP:20260421T032001
CREATED:20231109T163753Z
LAST-MODIFIED:20251126T142159Z
UID:10001653-1697736600-1697743800@www.warrenpc.org
SUMMARY:Planning Commission
DESCRIPTION:Planning Commission Meetings are held in person at 5:30 P.M. on the 1st and 3rd Thursdays of each month. Warren County Courthouse Fiscal Court Room\, 429 E 10th Avenue\, Bowling Green\, Kentucky. All meetings are open to the public. Meeting materials can be found here: https://warrenpc.org/planning-commission/. You may watch the meetings live on on our YouTube channel: https://www.youtube.com/channel/UCBJyVufxStT-_O0wPpQAxVA or Spectrum Cable channel 195.
URL:https://www.warrenpc.org/event/special-call-planning-commission-2021-07-01-3/2023-10-19/
CATEGORIES:Planning Commission Meeting
END:VEVENT
BEGIN:VEVENT
DTSTART;TZID=America/Chicago:20231023T130000
DTEND;TZID=America/Chicago:20231023T140000
DTSTAMP:20260421T032001
CREATED:20180706T190005Z
LAST-MODIFIED:20250811T162218Z
UID:10001337-1698066000-1698069600@www.warrenpc.org
SUMMARY:MPO Technical Advisory Committee
DESCRIPTION:MPO Technical Advisory Committee meetings are held every even-numbered month on the 4th Monday\, at 1:00 P.M. except in December when the meeting is held at 1:00 P.M. on the 2nd Monday.  Meetings are held at the City-County Planning Commission\, 922 State Street\, Suite 200\, Bowling Green\, Kentucky. All meetings are open to the public. \n***ALL MEETINGS WILL BE HELD VIRTUALLY VIA ZOOM & IN-PERSON***\nAgendas and meeting info here.\n 
URL:https://www.warrenpc.org/event/technical-advisory-committee-meeting/2023-10-23/
CATEGORIES:Technical Advisory Committee Meeting
END:VEVENT
BEGIN:VEVENT
DTSTART;TZID=America/Chicago:20231026T170000
DTEND;TZID=America/Chicago:20231026T190000
DTSTAMP:20260421T032001
CREATED:20180706T184942Z
LAST-MODIFIED:20231013T173918Z
UID:10001151-1698339600-1698346800@www.warrenpc.org
SUMMARY:Historic Preservation Board
DESCRIPTION:Historic Preservation Board meetings are held at 5:00 P.M. on the 4th Thursday of each month\, at the Warren County Courthouse Fiscal Court Room\, 429 E 10th Avenue\, Bowling Green\, Kentucky. All meetings are open to the public. Meeting materials can be found here: https://warrenpc.org/historic-preservation-board/.
URL:https://www.warrenpc.org/event/historic-preservation-board-meeting-2/2023-10-26/
CATEGORIES:Historic Preservation Board Meeting
END:VEVENT
END:VCALENDAR