BEGIN:VCALENDAR
VERSION:2.0
PRODID:-//City County Planning Commission - ECPv6.15.20//NONSGML v1.0//EN
CALSCALE:GREGORIAN
METHOD:PUBLISH
X-WR-CALNAME:City County Planning Commission
X-ORIGINAL-URL:https://www.warrenpc.org
X-WR-CALDESC:Events for City County Planning Commission
REFRESH-INTERVAL;VALUE=DURATION:PT1H
X-Robots-Tag:noindex
X-PUBLISHED-TTL:PT1H
BEGIN:VTIMEZONE
TZID:America/Chicago
BEGIN:DAYLIGHT
TZOFFSETFROM:-0600
TZOFFSETTO:-0500
TZNAME:CDT
DTSTART:20250309T080000
END:DAYLIGHT
BEGIN:STANDARD
TZOFFSETFROM:-0500
TZOFFSETTO:-0600
TZNAME:CST
DTSTART:20251102T070000
END:STANDARD
BEGIN:DAYLIGHT
TZOFFSETFROM:-0600
TZOFFSETTO:-0500
TZNAME:CDT
DTSTART:20260308T080000
END:DAYLIGHT
BEGIN:STANDARD
TZOFFSETFROM:-0500
TZOFFSETTO:-0600
TZNAME:CST
DTSTART:20261101T070000
END:STANDARD
BEGIN:DAYLIGHT
TZOFFSETFROM:-0600
TZOFFSETTO:-0500
TZNAME:CDT
DTSTART:20270314T080000
END:DAYLIGHT
BEGIN:STANDARD
TZOFFSETFROM:-0500
TZOFFSETTO:-0600
TZNAME:CST
DTSTART:20271107T070000
END:STANDARD
END:VTIMEZONE
BEGIN:VEVENT
DTSTART;TZID=America/Chicago:20260211T140000
DTEND;TZID=America/Chicago:20260211T160000
DTSTAMP:20260420T060957
CREATED:20260128T190147Z
LAST-MODIFIED:20260128T190147Z
UID:10003407-1770818400-1770825600@www.warrenpc.org
SUMMARY:Regional Greenways Feasibility Study - Public Meetings
DESCRIPTION:
URL:https://www.warrenpc.org/event/regional-greenways-feasibility-study-public-meetings/
LOCATION:Park City Senior Center\, Mammoth Cave Ave\, Park City\, KY\, 42160\, United States
CATEGORIES:Bike
ATTACH;FMTTYPE=image/jpeg:https://www.warrenpc.org/wp-content/uploads/2026/01/Regional-Greenway-Public-Meetings-scaled.jpg
END:VEVENT
BEGIN:VEVENT
DTSTART;TZID=America/Chicago:20260211T173000
DTEND;TZID=America/Chicago:20260211T193000
DTSTAMP:20260420T060957
CREATED:20260128T190544Z
LAST-MODIFIED:20260128T190748Z
UID:10003408-1770831000-1770838200@www.warrenpc.org
SUMMARY:Regional Greenways Feasibility Study - Public Meetings
DESCRIPTION:
URL:https://www.warrenpc.org/event/regional-greenways-feasibility-study-public-meetings-2/
LOCATION:BRADD\, 177 Graham Ave\, Bowling Green\, KY\, 42101\, United States
CATEGORIES:Bike
ATTACH;FMTTYPE=image/jpeg:https://www.warrenpc.org/wp-content/uploads/2026/01/Regional-Greenway-Public-Meetings-scaled.jpg
END:VEVENT
BEGIN:VEVENT
DTSTART;TZID=America/Chicago:20260213T120000
DTEND;TZID=America/Chicago:20260213T123000
DTSTAMP:20260420T060957
CREATED:20251215T194925Z
LAST-MODIFIED:20251216T210308Z
UID:10002132-1770984000-1770985800@www.warrenpc.org
SUMMARY:BikeWalkBG - Friday Walking Club
DESCRIPTION:BikeWalkBG – Friday Walking Club \nFRIDAYS AT NOON\nFOUNTAIN SQUARE PARK \nJOIN BIKEWALKBG FOR A CASUAL 30-MINUTE WALK IN DOWNTOWN BOWLING GREEN.\nMEET US BY THE FOUNTAIN.\nALL ARE WELCOME.
URL:https://www.warrenpc.org/event/friday-walking-club-3/2026-02-13/
LOCATION:Fountain Square Park\, Fountain Square\, Bowling Green\, KY
CATEGORIES:Bike
ATTACH;FMTTYPE=image/jpeg:https://www.warrenpc.org/wp-content/uploads/2025/05/walking-club-f.jpg
END:VEVENT
END:VCALENDAR